BEGIN:VCALENDAR
VERSION:2.0
PRODID:-//Os Náufragos Teatro | Escola de Artes Escénicas ON - ECPv6.9.0//NONSGML v1.0//EN
CALSCALE:GREGORIAN
METHOD:PUBLISH
X-WR-CALNAME:Os Náufragos Teatro | Escola de Artes Escénicas ON
X-ORIGINAL-URL:https://osnaufragosteatro.com
X-WR-CALDESC:Events for Os Náufragos Teatro | Escola de Artes Escénicas ON
REFRESH-INTERVAL;VALUE=DURATION:PT1H
X-Robots-Tag:noindex
X-PUBLISHED-TTL:PT1H
BEGIN:VTIMEZONE
TZID:Europe/Madrid
BEGIN:DAYLIGHT
TZOFFSETFROM:+0100
TZOFFSETTO:+0200
TZNAME:CEST
DTSTART:20240331T010000
END:DAYLIGHT
BEGIN:STANDARD
TZOFFSETFROM:+0200
TZOFFSETTO:+0100
TZNAME:CET
DTSTART:20241027T010000
END:STANDARD
END:VTIMEZONE
BEGIN:VEVENT
DTSTART;TZID=Europe/Madrid:20241223T173000
DTEND;TZID=Europe/Madrid:20241223T190000
DTSTAMP:20260422T094522
CREATED:20241226T204124Z
LAST-MODIFIED:20241226T204124Z
UID:10000025-1734975000-1734980400@osnaufragosteatro.com
SUMMARY:HUGO
DESCRIPTION:Sinopsis: \nHugo es diferente\, le gustan mucho los aviones y también toca el piano. Laia visita a Hugo cada día. A Laia le gusta hablar y las plantas. Hugo tiene TEA\, trastorno del espectro autista. Hugo habla de la empatía\, de la necesidad de comunicarnos y de la belleza de la diferencia. \nSer diferentes nos hace grandes. \nNuestra compañía tiene una línea artística clara. Durante los últimos años hemos trabajado desde dos premisas esenciales\, por un lado la visibilidad de realidades que normalmente son ocultas\, como en este caso el TEA (TRASTORNO DEL ESPECTRO AUTISTA) y por otro lado\, apostando por una calidad artística en el ámbito del teatro para la infancia y la juventud. En muchas ocasiones los temas que tratamos son pertenecientes a grupos en riesgo de exclusión o en referencia a población discriminada por su condición sexual\, raza o enfermedad. Por ello es importante ser cercanos con el mensaje y apoyarlo de recursos escénicos que lleguen al espectador.
URL:https://osnaufragosteatro.com/evento/hugo-23-diciembre-casa-cultura-a-laracha/
LOCATION:Casa da Cultura – Concello da Laracha\, Rúa Manuel Murguía\, A Laracha\, A Coruña\, 15145\, Spain
CATEGORIES:HUGO
END:VEVENT
BEGIN:VEVENT
DTSTART;TZID=Europe/Madrid:20241226T180000
DTEND;TZID=Europe/Madrid:20241226T193000
DTSTAMP:20260422T094522
CREATED:20241226T203549Z
LAST-MODIFIED:20241226T203549Z
UID:10000024-1735236000-1735241400@osnaufragosteatro.com
SUMMARY:BULEBULE
DESCRIPTION:Sinopsis: \nBulebule\, o máis recente espectáculo de Os Náufragos Teatro\, trata sobre a presenza da muller no mar\, a diversidade e o TDAH (Trastorno por Déficit de Atención con Hiperactividade). Unha peza familiar que explora os camiños da igualdade\, destacando o esforzo das mulleres por derrubar as barreiras que lles impiden acceder a determinadas profesións. \nEntradas en https://www.artikavigo.com/bulebule_ev25144.html
URL:https://osnaufragosteatro.com/evento/bulebule-vigo-26-diciembre-2024-sala-artika/
LOCATION:Sala Ártika\, Av. Beiramar\, 113\, Vigo\, Pontevedra\, 36208\, España
CATEGORIES:BULEBULE
END:VEVENT
BEGIN:VEVENT
DTSTART;TZID=Europe/Madrid:20241227T113000
DTEND;TZID=Europe/Madrid:20241227T130000
DTSTAMP:20260422T094522
CREATED:20241226T203111Z
LAST-MODIFIED:20241226T203345Z
UID:10000022-1735299000-1735304400@osnaufragosteatro.com
SUMMARY:BULEBULE (Pases escolares)
DESCRIPTION:Sinopsis: \nBulebule\, el más reciente espectáculo de Os Náufragos Teatro\, trata sobre la presencia de la mujer en los oficios del mar\, la diversidad y el TDAH (Trastorno por Déficit de Atención con Hiperactividad). Una pieza familiar que explora los caminos de la igualdad\, destacando el esfuerzo de las mujeres por derribar las barreras que les impiden acceder a determinadas profesiones. \nReservas escolares en https://www.cuartapared.es/project/bulebule-ce/#1713781053998-13dc7a67-c6ea
URL:https://osnaufragosteatro.com/evento/bulebule-sala-cuarta-pared-madrid-27-enero-2025/2024-12-27/
LOCATION:Sala de Teatro Cuarta Pared\, C. de Ercilla\, 17\, Arganzuela\, Madrid\, Madrid\, 28005\, Spain
CATEGORIES:BULEBULE
END:VEVENT
END:VCALENDAR