BEGIN:VCALENDAR
VERSION:2.0
PRODID:-//Os Náufragos Teatro | Escola de Artes Escénicas ON - ECPv6.9.0//NONSGML v1.0//EN
CALSCALE:GREGORIAN
METHOD:PUBLISH
X-ORIGINAL-URL:https://osnaufragosteatro.com
X-WR-CALDESC:Events for Os Náufragos Teatro | Escola de Artes Escénicas ON
REFRESH-INTERVAL;VALUE=DURATION:PT1H
X-Robots-Tag:noindex
X-PUBLISHED-TTL:PT1H
BEGIN:VTIMEZONE
TZID:Europe/Madrid
BEGIN:DAYLIGHT
TZOFFSETFROM:+0100
TZOFFSETTO:+0200
TZNAME:CEST
DTSTART:20240331T010000
END:DAYLIGHT
BEGIN:STANDARD
TZOFFSETFROM:+0200
TZOFFSETTO:+0100
TZNAME:CET
DTSTART:20241027T010000
END:STANDARD
END:VTIMEZONE
BEGIN:VEVENT
DTSTART;TZID=Europe/Madrid:20240323T200000
DTEND;TZID=Europe/Madrid:20240323T211500
DTSTAMP:20260423T001948
CREATED:20240528T103844Z
LAST-MODIFIED:20240528T103854Z
UID:10000006-1711224000-1711228500@osnaufragosteatro.com
SUMMARY:NOSO
DESCRIPTION:SINOPSE: \nNicolás reúne a súa familia para despedirse do espazo que lles viu crecer\, a casa da infancia cun vello ultramarinos bar que rexentaban os seus pais e no que agora vive Nicolás con María\, a súa parella. A expropiación dese lugar\, por causa da construción dun parque eólico\, é o motivo desta xuntanza. Olivia acode con Rubén despois de moitos anos sen contacto familiar. As lembranzas do pasado\, unha visita non esperada\, as relacións entres irmáns\, a necesidade de mirar ao futuro e a importancia do pasado fan de NOSO unha dramedia que fai visible o conflito xeracional e a pertenza do lugar onde vimos. \n  \nFICHA ARTÍSTICA: \nReparto: Daniel Otero\, María Roja\, Rebeca Vecino\, Jimmi Núñez e Sete Eiroa \nEspazo escénico e vestiario Marisa de LaIglesia \nDeseño iluminación Daniel Pais \nMúsica Os Náufragos teatro \nAxu. dirección Irene Lorenzo \nProdución Antonio Vázquez \n  \nUnha produción de Os Náufragos Teatro e AGADIC \nCo apoio de Teatro Rosalía Castro \nDistribúe URDIME \nDramaturxia e dirección Gustavo del Río
URL:https://osnaufragosteatro.com/evento/noso-3/2024-03-23/
LOCATION:Sala Ártika\, Av. Beiramar\, 113\, Vigo\, Pontevedra\, 36208\, España
CATEGORIES:NOSO
END:VEVENT
BEGIN:VEVENT
DTSTART;TZID=Europe/Madrid:20240324T200000
DTEND;TZID=Europe/Madrid:20240324T211500
DTSTAMP:20260423T001948
CREATED:20240528T103844Z
LAST-MODIFIED:20240528T103854Z
UID:10000007-1711310400-1711314900@osnaufragosteatro.com
SUMMARY:NOSO
DESCRIPTION:SINOPSE: \nNicolás reúne a súa familia para despedirse do espazo que lles viu crecer\, a casa da infancia cun vello ultramarinos bar que rexentaban os seus pais e no que agora vive Nicolás con María\, a súa parella. A expropiación dese lugar\, por causa da construción dun parque eólico\, é o motivo desta xuntanza. Olivia acode con Rubén despois de moitos anos sen contacto familiar. As lembranzas do pasado\, unha visita non esperada\, as relacións entres irmáns\, a necesidade de mirar ao futuro e a importancia do pasado fan de NOSO unha dramedia que fai visible o conflito xeracional e a pertenza do lugar onde vimos. \n  \nFICHA ARTÍSTICA: \nReparto: Daniel Otero\, María Roja\, Rebeca Vecino\, Jimmi Núñez e Sete Eiroa \nEspazo escénico e vestiario Marisa de LaIglesia \nDeseño iluminación Daniel Pais \nMúsica Os Náufragos teatro \nAxu. dirección Irene Lorenzo \nProdución Antonio Vázquez \n  \nUnha produción de Os Náufragos Teatro e AGADIC \nCo apoio de Teatro Rosalía Castro \nDistribúe URDIME \nDramaturxia e dirección Gustavo del Río
URL:https://osnaufragosteatro.com/evento/noso-3/2024-03-24/
LOCATION:Sala Ártika\, Av. Beiramar\, 113\, Vigo\, Pontevedra\, 36208\, España
CATEGORIES:NOSO
END:VEVENT
END:VCALENDAR