BEGIN:VCALENDAR
VERSION:2.0
PRODID:-//Os Náufragos Teatro | Escola de Artes Escénicas ON - ECPv6.9.0//NONSGML v1.0//EN
CALSCALE:GREGORIAN
METHOD:PUBLISH
X-WR-CALNAME:Os Náufragos Teatro | Escola de Artes Escénicas ON
X-ORIGINAL-URL:https://osnaufragosteatro.com
X-WR-CALDESC:Events for Os Náufragos Teatro | Escola de Artes Escénicas ON
REFRESH-INTERVAL;VALUE=DURATION:PT1H
X-Robots-Tag:noindex
X-PUBLISHED-TTL:PT1H
BEGIN:VTIMEZONE
TZID:Europe/Madrid
BEGIN:DAYLIGHT
TZOFFSETFROM:+0100
TZOFFSETTO:+0200
TZNAME:CEST
DTSTART:20240331T010000
END:DAYLIGHT
BEGIN:STANDARD
TZOFFSETFROM:+0200
TZOFFSETTO:+0100
TZNAME:CET
DTSTART:20241027T010000
END:STANDARD
END:VTIMEZONE
BEGIN:VEVENT
DTSTART;TZID=Europe/Madrid:20240223T203000
DTEND;TZID=Europe/Madrid:20240223T214000
DTSTAMP:20260423T025645
CREATED:20240528T094832Z
LAST-MODIFIED:20240528T100232Z
UID:10000004-1708720200-1708724400@osnaufragosteatro.com
SUMMARY:NOSO
DESCRIPTION:Idade recomendada: >14 anos \nDuración: 70 min \nLingua: galego \n#posfunción: 23 de febreiro ao remate da función \nNicolás reúne a súa familia para despedirse do espazo que os viu crecer\, a casa da infancia cun vello ultramarinos bar que rexentaban os seus pais e no que agora vive con María\, a súa parella. A expropiación do lugar por causa da construción dun parque eólico é o motivo desta xuntanza. Olivia acode con Rubén despois de moitos anos sen contacto familiar. As lembranzas do pasado\, unha visita non esperada\, as relacións entres irmáns\, a necesidade de mirar o futuro e a importancia do pasado fan de NOSO unha dramedia que visibiliza o conflito xeracional e de pertenza ao lugar de onde vimos. \nElenco: Denis Gómez\, María Roja\, Rebeca Vecino\, Jimmi Núñez e Sete Eiroa \nEspazo escénico e vestiario: Marisa de La Iglesia \nDeseño iluminación: Daniel Pais \nMúsica: Os Náufragos Teatro \nAxudante dirección: Irene Lorenzo \nProdución: Antonio Vázquez
URL:https://osnaufragosteatro.com/evento/noso-2/
LOCATION:Teatro Principal de Santiago de Compostela\, Rúa Nova\, 21\, Santiago de Compostela\, A Coruña\, 15705\, España
CATEGORIES:NOSO
END:VEVENT
END:VCALENDAR